Package: limpca Version: 1.6.0 Command: /home/biocbuild/bbs-3.22-bioc/R/bin/R CMD INSTALL limpca StartedAt: 2025-11-13 15:23:14 -0500 (Thu, 13 Nov 2025) EndedAt: 2025-11-13 15:23:39 -0500 (Thu, 13 Nov 2025) EllapsedTime: 25.1 seconds RetCode: 0 Status: OK