Package: limpa Version: 1.2.0 Command: /home/biocbuild/bbs-3.22-bioc/R/bin/R CMD INSTALL limpa StartedAt: 2025-11-05 15:10:32 -0500 (Wed, 05 Nov 2025) EndedAt: 2025-11-05 15:10:43 -0500 (Wed, 05 Nov 2025) EllapsedTime: 11.6 seconds RetCode: 0 Status: OK