Package: limmaGUI Version: 1.86.0 Command: /home/biocbuild/R/R/bin/R CMD INSTALL limmaGUI StartedAt: 2025-11-13 21:06:15 -0000 (Thu, 13 Nov 2025) EndedAt: 2025-11-13 21:07:00 -0000 (Thu, 13 Nov 2025) EllapsedTime: 45.1 seconds RetCode: 0 Status: OK