Package: limmaGUI Version: 1.86.0 Command: /home/biocbuild/R/R/bin/R CMD build --keep-empty-dirs --no-resave-data limmaGUI StartedAt: 2025-11-14 02:50:25 -0000 (Fri, 14 Nov 2025) EndedAt: 2025-11-14 02:50:54 -0000 (Fri, 14 Nov 2025) EllapsedTime: 29.0 seconds RetCode: 0 Status: OK PackageFile: limmaGUI_1.86.0.tar.gz PackageFileSize: 5.34 MiB