Package: limmaGUI Version: 1.86.0 Command: /home/biocbuild/bbs-3.22-bioc/R/bin/R CMD INSTALL limmaGUI StartedAt: 2025-11-11 15:08:46 -0500 (Tue, 11 Nov 2025) EndedAt: 2025-11-11 15:09:15 -0500 (Tue, 11 Nov 2025) EllapsedTime: 29.0 seconds RetCode: 0 Status: OK