Package: limmaGUI Version: 1.86.0 Command: /home/biocbuild/bbs-3.22-bioc/R/bin/R CMD check --install=check:limmaGUI.install-out.txt --library=/home/biocbuild/bbs-3.22-bioc/R/site-library --timings limmaGUI_1.86.0.tar.gz StartedAt: 2025-11-12 00:59:23 -0500 (Wed, 12 Nov 2025) EndedAt: 2025-11-12 01:00:16 -0500 (Wed, 12 Nov 2025) EllapsedTime: 52.1 seconds RetCode: 0 Status: OK CheckDir: limmaGUI.Rcheck Warnings: 0