Package: limmaGUI Version: 1.86.0 Command: /home/biocbuild/bbs-3.22-bioc/R/bin/R CMD build --keep-empty-dirs --no-resave-data --md5 limmaGUI StartedAt: 2025-11-11 18:27:53 -0500 (Tue, 11 Nov 2025) EndedAt: 2025-11-11 18:28:15 -0500 (Tue, 11 Nov 2025) EllapsedTime: 22.0 seconds RetCode: 0 Status: OK PackageFile: limmaGUI_1.86.0.tar.gz PackageFileSize: 5.353 MiB