Package: limmaGUI Version: 1.84.0 Command: /Library/Frameworks/R.framework/Resources/bin/R CMD INSTALL limmaGUI StartedAt: 2025-10-13 15:09:21 -0400 (Mon, 13 Oct 2025) EndedAt: 2025-10-13 15:10:01 -0400 (Mon, 13 Oct 2025) EllapsedTime: 39.7 seconds RetCode: 0 Status: OK