Package: limma Version: 3.66.0 Command: /home/biocbuild/bbs-3.22-bioc/R/bin/R CMD build --keep-empty-dirs --no-resave-data --md5 limma StartedAt: 2025-11-11 18:27:53 -0500 (Tue, 11 Nov 2025) EndedAt: 2025-11-11 18:28:17 -0500 (Tue, 11 Nov 2025) EllapsedTime: 24.1 seconds RetCode: 0 Status: OK PackageFile: limma_3.66.0.tar.gz PackageFileSize: 2.723 MiB