Package: limma Version: 3.66.0 Command: /Library/Frameworks/R.framework/Resources/bin/R CMD INSTALL limma StartedAt: 2025-11-10 15:01:30 -0500 (Mon, 10 Nov 2025) EndedAt: 2025-11-10 15:01:39 -0500 (Mon, 10 Nov 2025) EllapsedTime: 9.1 seconds RetCode: 0 Status: OK