Package: limma Version: 3.66.0 Command: /Library/Frameworks/R.framework/Resources/bin/R CMD build --keep-empty-dirs --no-resave-data limma StartedAt: 2025-11-10 16:50:53 -0500 (Mon, 10 Nov 2025) EndedAt: 2025-11-10 16:51:05 -0500 (Mon, 10 Nov 2025) EllapsedTime: 12.1 seconds RetCode: 0 Status: OK PackageFile: limma_3.66.0.tar.gz PackageFileSize: 2.718 MiB