Package: lfa Version: 2.10.0 Command: /home/biocbuild/bbs-3.22-bioc/R/bin/R CMD INSTALL lfa StartedAt: 2025-10-31 15:13:26 -0400 (Fri, 31 Oct 2025) EndedAt: 2025-10-31 15:13:37 -0400 (Fri, 31 Oct 2025) EllapsedTime: 10.4 seconds RetCode: 0 Status: OK