Package: levi Version: 1.28.0 Command: /home/biocbuild/bbs-3.22-bioc/R/bin/R CMD INSTALL levi StartedAt: 2025-11-11 15:14:31 -0500 (Tue, 11 Nov 2025) EndedAt: 2025-11-11 15:14:52 -0500 (Tue, 11 Nov 2025) EllapsedTime: 20.9 seconds RetCode: 0 Status: OK