Package: levi Version: 1.26.0 Command: /home/biocbuild/R/R/bin/R CMD build --keep-empty-dirs --no-resave-data levi StartedAt: 2025-10-14 01:59:47 -0000 (Tue, 14 Oct 2025) EndedAt: 2025-10-14 02:02:54 -0000 (Tue, 14 Oct 2025) EllapsedTime: 187.1 seconds RetCode: 0 Status: OK PackageFile: levi_1.26.0.tar.gz PackageFileSize: 2.783 MiB