Package: lefser Version: 1.20.1 Command: /home/biocbuild/bbs-3.22-bioc/R/bin/R CMD INSTALL lefser StartedAt: 2025-11-13 16:00:18 -0500 (Thu, 13 Nov 2025) EndedAt: 2025-11-13 16:00:46 -0500 (Thu, 13 Nov 2025) EllapsedTime: 27.7 seconds RetCode: 0 Status: OK