Package: lefser Version: 1.20.1 Command: /home/biocbuild/bbs-3.22-bioc/R/bin/R CMD build --keep-empty-dirs --no-resave-data --md5 lefser StartedAt: 2025-11-13 18:25:29 -0500 (Thu, 13 Nov 2025) EndedAt: 2025-11-13 18:26:16 -0500 (Thu, 13 Nov 2025) EllapsedTime: 47.1 seconds RetCode: 0 Status: OK PackageFile: lefser_1.20.1.tar.gz PackageFileSize: 601.3 KiB