Package: lapmix Version: 1.76.0 Command: /home/biocbuild/bbs-3.22-bioc/R/bin/R CMD INSTALL lapmix StartedAt: 2025-11-11 15:16:18 -0500 (Tue, 11 Nov 2025) EndedAt: 2025-11-11 15:16:20 -0500 (Tue, 11 Nov 2025) EllapsedTime: 1.2 seconds RetCode: 1 Status: ERROR