Package: lapmix Version: 1.76.0 Command: /Library/Frameworks/R.framework/Resources/bin/R CMD INSTALL lapmix StartedAt: 2025-10-31 15:23:08 -0400 (Fri, 31 Oct 2025) EndedAt: 2025-10-31 15:23:13 -0400 (Fri, 31 Oct 2025) EllapsedTime: 4.9 seconds RetCode: 1 Status: ERROR