Package: lapmix Version: 1.74.0 Command: /home/biocbuild/R/R/bin/R CMD INSTALL lapmix StartedAt: 2025-10-09 20:24:17 -0000 (Thu, 09 Oct 2025) EndedAt: 2025-10-09 20:24:18 -0000 (Thu, 09 Oct 2025) EllapsedTime: 1.3 seconds RetCode: 1 Status: ERROR