Package: koinar Version: 1.4.0 Command: /home/biocbuild/bbs-3.22-bioc/R/bin/R CMD build --keep-empty-dirs --no-resave-data --md5 koinar StartedAt: 2025-11-06 18:21:14 -0500 (Thu, 06 Nov 2025) EndedAt: 2025-11-06 18:21:44 -0500 (Thu, 06 Nov 2025) EllapsedTime: 30.0 seconds RetCode: 0 Status: OK PackageFile: koinar_1.4.0.tar.gz PackageFileSize: 1.357 MiB