Package: knowYourCG Version: 1.6.0 Command: /home/biocbuild/bbs-3.22-bioc/R/bin/R CMD build --keep-empty-dirs --no-resave-data --md5 knowYourCG StartedAt: 2025-11-11 18:26:51 -0500 (Tue, 11 Nov 2025) EndedAt: 2025-11-11 18:28:48 -0500 (Tue, 11 Nov 2025) EllapsedTime: 117.2 seconds RetCode: 0 Status: OK PackageFile: knowYourCG_1.6.0.tar.gz PackageFileSize: 14.58 MiB