Package: knowYourCG Version: 1.6.0 Command: rm -rf knowYourCG.buildbin-libdir && mkdir knowYourCG.buildbin-libdir && /Users/biocbuild/BBS/utils/build-universal.sh knowYourCG_1.6.0.tar.gz /Library/Frameworks/R.framework/Resources/bin/R knowYourCG.buildbin-libdir StartedAt: 2025-11-10 23:24:48 -0500 (Mon, 10 Nov 2025) EndedAt: 2025-11-10 23:24:59 -0500 (Mon, 10 Nov 2025) EllapsedTime: 11.3 seconds RetCode: 0 Status: OK PackageFile: knowYourCG_1.6.0.tgz PackageFileSize: 13.27 MiB