Package: kmcut Version: 1.4.0 Command: /home/biocbuild/bbs-3.22-bioc/R/bin/R CMD check --install=check:kmcut.install-out.txt --library=/home/biocbuild/bbs-3.22-bioc/R/site-library --timings kmcut_1.4.0.tar.gz StartedAt: 2025-11-15 01:01:58 -0500 (Sat, 15 Nov 2025) EndedAt: 2025-11-15 01:05:24 -0500 (Sat, 15 Nov 2025) EllapsedTime: 206.2 seconds RetCode: 0 Status: OK CheckDir: kmcut.Rcheck Warnings: 0