Package: kmcut Version: 1.4.0 Command: /home/biocbuild/bbs-3.22-bioc/R/bin/R CMD build --keep-empty-dirs --no-resave-data --md5 kmcut StartedAt: 2025-11-11 18:26:47 -0500 (Tue, 11 Nov 2025) EndedAt: 2025-11-11 18:27:23 -0500 (Tue, 11 Nov 2025) EllapsedTime: 36.1 seconds RetCode: 0 Status: OK PackageFile: kmcut_1.4.0.tar.gz PackageFileSize: 1.168 MiB