Package: kmcut Version: 1.4.0 Command: /Library/Frameworks/R.framework/Resources/bin/R CMD INSTALL kmcut StartedAt: 2025-11-02 15:32:36 -0500 (Sun, 02 Nov 2025) EndedAt: 2025-11-02 15:33:03 -0500 (Sun, 02 Nov 2025) EllapsedTime: 26.9 seconds RetCode: 0 Status: OK