Package: kmcut Version: 1.4.0 Command: /Library/Frameworks/R.framework/Resources/bin/R CMD build --keep-empty-dirs --no-resave-data kmcut StartedAt: 2025-11-03 17:32:24 -0500 (Mon, 03 Nov 2025) EndedAt: 2025-11-03 17:33:10 -0500 (Mon, 03 Nov 2025) EllapsedTime: 45.8 seconds RetCode: 0 Status: OK PackageFile: kmcut_1.4.0.tar.gz PackageFileSize: 1.259 MiB