Package: kmcut Version: 1.2.0 Command: /home/biocbuild/R/R/bin/R CMD INSTALL kmcut StartedAt: 2025-10-09 20:37:29 -0000 (Thu, 09 Oct 2025) EndedAt: 2025-10-09 20:37:59 -0000 (Thu, 09 Oct 2025) EllapsedTime: 30.7 seconds RetCode: 0 Status: OK