Package: kebabs Version: 1.44.0 Command: /home/biocbuild/R/R/bin/R CMD INSTALL kebabs StartedAt: 2025-11-13 21:22:17 -0000 (Thu, 13 Nov 2025) EndedAt: 2025-11-13 21:24:41 -0000 (Thu, 13 Nov 2025) EllapsedTime: 144.4 seconds RetCode: 0 Status: OK