Package: kebabs Version: 1.44.0 Command: /home/biocbuild/R/R/bin/R CMD build --keep-empty-dirs --no-resave-data kebabs StartedAt: 2025-11-14 02:47:23 -0000 (Fri, 14 Nov 2025) EndedAt: 2025-11-14 02:52:51 -0000 (Fri, 14 Nov 2025) EllapsedTime: 328.2 seconds RetCode: 0 Status: OK PackageFile: kebabs_1.44.0.tar.gz PackageFileSize: 2.25 MiB