Package: kebabs Version: 1.44.0 Command: /home/biocbuild/bbs-3.22-bioc/R/bin/R CMD build --keep-empty-dirs --no-resave-data --md5 kebabs StartedAt: 2025-11-11 18:25:59 -0500 (Tue, 11 Nov 2025) EndedAt: 2025-11-11 18:30:12 -0500 (Tue, 11 Nov 2025) EllapsedTime: 253.3 seconds RetCode: 0 Status: OK PackageFile: kebabs_1.44.0.tar.gz PackageFileSize: 2.265 MiB