Package: katdetectr Version: 1.12.0 Command: /home/biocbuild/bbs-3.22-bioc/R/bin/R CMD build --keep-empty-dirs --no-resave-data --md5 katdetectr StartedAt: 2025-11-11 18:25:32 -0500 (Tue, 11 Nov 2025) EndedAt: 2025-11-11 18:26:47 -0500 (Tue, 11 Nov 2025) EllapsedTime: 75.0 seconds RetCode: 0 Status: OK PackageFile: katdetectr_1.12.0.tar.gz PackageFileSize: 1.372 MiB