Package: katdetectr Version: 1.10.0 Command: /Library/Frameworks/R.framework/Resources/bin/R CMD INSTALL katdetectr StartedAt: 2025-10-13 16:14:37 -0400 (Mon, 13 Oct 2025) EndedAt: 2025-10-13 16:16:04 -0400 (Mon, 13 Oct 2025) EllapsedTime: 86.9 seconds RetCode: 0 Status: OK