Package: katdetectr Version: 1.10.0 Command: rm -rf katdetectr.buildbin-libdir && mkdir katdetectr.buildbin-libdir && /Users/biocbuild/BBS/utils/build-universal.sh katdetectr_1.10.0.tar.gz /Library/Frameworks/R.framework/Resources/bin/R katdetectr.buildbin-libdir StartedAt: 2025-10-14 13:50:29 -0400 (Tue, 14 Oct 2025) EndedAt: 2025-10-14 13:52:39 -0400 (Tue, 14 Oct 2025) EllapsedTime: 130.4 seconds RetCode: 0 Status: OK PackageFile: katdetectr_1.10.0.tgz PackageFileSize: 1.786 MiB