Package: karyoploteR Version: 1.36.0 Command: /home/biocbuild/bbs-3.22-bioc/R/bin/R CMD build --keep-empty-dirs --no-resave-data --md5 karyoploteR StartedAt: 2025-11-11 18:25:21 -0500 (Tue, 11 Nov 2025) EndedAt: 2025-11-11 18:26:48 -0500 (Tue, 11 Nov 2025) EllapsedTime: 87.1 seconds RetCode: 0 Status: OK PackageFile: karyoploteR_1.36.0.tar.gz PackageFileSize: 2.573 MiB