Package: jazzPanda Version: 1.2.0 Command: /home/biocbuild/bbs-3.22-bioc/R/bin/R CMD INSTALL jazzPanda StartedAt: 2025-11-11 15:25:41 -0500 (Tue, 11 Nov 2025) EndedAt: 2025-11-11 15:26:12 -0500 (Tue, 11 Nov 2025) EllapsedTime: 30.5 seconds RetCode: 0 Status: OK