Package: jazzPanda Version: 1.2.0 Command: /Library/Frameworks/R.framework/Resources/bin/R CMD INSTALL jazzPanda StartedAt: 2025-11-10 15:14:02 -0500 (Mon, 10 Nov 2025) EndedAt: 2025-11-10 15:14:14 -0500 (Mon, 10 Nov 2025) EllapsedTime: 12.5 seconds RetCode: 0 Status: OK