Package: jazzPanda Version: 1.2.0 Command: /Library/Frameworks/R.framework/Resources/bin/R CMD build --keep-empty-dirs --no-resave-data jazzPanda StartedAt: 2025-11-10 16:49:44 -0500 (Mon, 10 Nov 2025) EndedAt: 2025-11-10 16:51:05 -0500 (Mon, 10 Nov 2025) EllapsedTime: 81.0 seconds RetCode: 0 Status: OK PackageFile: jazzPanda_1.2.0.tar.gz PackageFileSize: 4.099 MiB