Package: ivygapSE Version: 1.32.0 Command: /home/biocbuild/bbs-3.22-bioc/R/bin/R CMD INSTALL ivygapSE StartedAt: 2025-11-14 15:21:22 -0500 (Fri, 14 Nov 2025) EndedAt: 2025-11-14 15:21:49 -0500 (Fri, 14 Nov 2025) EllapsedTime: 27.6 seconds RetCode: 0 Status: OK