Package: iterativeBMAsurv Version: 1.68.0 Command: /home/biocbuild/bbs-3.22-bioc/R/bin/R CMD INSTALL iterativeBMAsurv StartedAt: 2025-11-11 15:09:20 -0500 (Tue, 11 Nov 2025) EndedAt: 2025-11-11 15:09:27 -0500 (Tue, 11 Nov 2025) EllapsedTime: 6.9 seconds RetCode: 0 Status: OK