Package: iterativeBMAsurv Version: 1.68.0 Command: /home/biocbuild/bbs-3.22-bioc/R/bin/R CMD check --install=check:iterativeBMAsurv.install-out.txt --library=/home/biocbuild/bbs-3.22-bioc/R/site-library --timings iterativeBMAsurv_1.68.0.tar.gz StartedAt: 2025-11-12 00:52:43 -0500 (Wed, 12 Nov 2025) EndedAt: 2025-11-12 00:54:10 -0500 (Wed, 12 Nov 2025) EllapsedTime: 87.1 seconds RetCode: 0 Status: WARNINGS CheckDir: iterativeBMAsurv.Rcheck Warnings: 1