Package: iterativeBMAsurv Version: 1.68.0 Command: /home/biocbuild/bbs-3.22-bioc/R/bin/R CMD build --keep-empty-dirs --no-resave-data --md5 iterativeBMAsurv StartedAt: 2025-11-11 18:24:54 -0500 (Tue, 11 Nov 2025) EndedAt: 2025-11-11 18:25:11 -0500 (Tue, 11 Nov 2025) EllapsedTime: 17.0 seconds RetCode: 0 Status: OK PackageFile: iterativeBMAsurv_1.68.0.tar.gz PackageFileSize: 198.8 KiB