Package: iterativeBMAsurv Version: 1.66.0 Command: /home/biocbuild/bbs-3.21-bioc/R/bin/R CMD build --keep-empty-dirs --no-resave-data iterativeBMAsurv StartedAt: 2025-10-12 18:09:11 -0400 (Sun, 12 Oct 2025) EndedAt: 2025-10-12 18:09:28 -0400 (Sun, 12 Oct 2025) EllapsedTime: 17.0 seconds RetCode: 0 Status: OK PackageFile: iterativeBMAsurv_1.66.0.tar.gz PackageFileSize: 197.5 KiB