Package: iterativeBMAsurv Version: 1.66.0 Command: /Library/Frameworks/R.framework/Resources/bin/R CMD INSTALL iterativeBMAsurv StartedAt: 2025-10-09 15:15:07 -0400 (Thu, 09 Oct 2025) EndedAt: 2025-10-09 15:15:15 -0400 (Thu, 09 Oct 2025) EllapsedTime: 7.9 seconds RetCode: 0 Status: OK