Package: iterativeBMAsurv Version: 1.66.0 Command: /Library/Frameworks/R.framework/Resources/bin/R CMD build --keep-empty-dirs --no-resave-data iterativeBMAsurv StartedAt: 2025-10-10 03:10:08 -0400 (Fri, 10 Oct 2025) EndedAt: 2025-10-10 03:10:34 -0400 (Fri, 10 Oct 2025) EllapsedTime: 25.9 seconds RetCode: 0 Status: OK PackageFile: iterativeBMAsurv_1.66.0.tar.gz PackageFileSize: 197.5 KiB