Package: iterativeBMA Version: 1.68.0 Command: /home/biocbuild/R/R/bin/R CMD INSTALL iterativeBMA StartedAt: 2025-11-10 21:18:11 -0000 (Mon, 10 Nov 2025) EndedAt: 2025-11-10 21:18:27 -0000 (Mon, 10 Nov 2025) EllapsedTime: 16.1 seconds RetCode: 0 Status: OK