Package: iterativeBMA Version: 1.68.0 Command: /home/biocbuild/R/R/bin/R CMD build --keep-empty-dirs --no-resave-data iterativeBMA StartedAt: 2025-11-11 02:42:06 -0000 (Tue, 11 Nov 2025) EndedAt: 2025-11-11 02:42:25 -0000 (Tue, 11 Nov 2025) EllapsedTime: 19.0 seconds RetCode: 0 Status: OK PackageFile: iterativeBMA_1.68.0.tar.gz PackageFileSize: 153.8 KiB