Package: iterativeBMA Version: 1.66.0 Command: /Library/Frameworks/R.framework/Resources/bin/R CMD INSTALL iterativeBMA StartedAt: 2025-09-29 15:20:01 -0400 (Mon, 29 Sep 2025) EndedAt: 2025-09-29 15:20:16 -0400 (Mon, 29 Sep 2025) EllapsedTime: 14.9 seconds RetCode: 0 Status: OK