Package: iterativeBMA Version: 1.66.0 Command: /Library/Frameworks/R.framework/Resources/bin/R CMD build --keep-empty-dirs --no-resave-data iterativeBMA StartedAt: 2025-09-29 20:01:20 -0400 (Mon, 29 Sep 2025) EndedAt: 2025-09-29 20:02:04 -0400 (Mon, 29 Sep 2025) EllapsedTime: 44.4 seconds RetCode: 0 Status: OK PackageFile: iterativeBMA_1.66.0.tar.gz PackageFileSize: 158.5 KiB