Package: iterativeBMA Version: 1.66.0 Command: /home/biocbuild/R/R/bin/R CMD INSTALL iterativeBMA StartedAt: 2025-09-25 20:24:54 -0000 (Thu, 25 Sep 2025) EndedAt: 2025-09-25 20:25:06 -0000 (Thu, 25 Sep 2025) EllapsedTime: 11.8 seconds RetCode: 0 Status: OK