Package: isomiRs Version: 1.38.0 Command: /home/biocbuild/bbs-3.22-bioc/R/bin/R CMD INSTALL isomiRs StartedAt: 2025-11-17 17:46:33 -0500 (Mon, 17 Nov 2025) EndedAt: 2025-11-17 17:47:18 -0500 (Mon, 17 Nov 2025) EllapsedTime: 45.9 seconds RetCode: 0 Status: OK